BEGIN:VCALENDAR
VERSION:2.0
PRODID:-//Wet&#039;n&#039;Wild Hawaii - ECPv6.15.17.1//NONSGML v1.0//EN
CALSCALE:GREGORIAN
METHOD:PUBLISH
X-WR-CALNAME:Wet&#039;n&#039;Wild Hawaii
X-ORIGINAL-URL:https://wetnwildhawaii.com
X-WR-CALDESC:Events for Wet&#039;n&#039;Wild Hawaii
REFRESH-INTERVAL;VALUE=DURATION:PT1H
X-Robots-Tag:noindex
X-PUBLISHED-TTL:PT1H
BEGIN:VTIMEZONE
TZID:Pacific/Honolulu
BEGIN:STANDARD
TZOFFSETFROM:-1000
TZOFFSETTO:-1000
TZNAME:HST
DTSTART:20250101T000000
END:STANDARD
END:VTIMEZONE
BEGIN:VEVENT
DTSTART;VALUE=DATE:20260605
DTEND;VALUE=DATE:20260607
DTSTAMP:20260420T220346
CREATED:20260128T233453Z
LAST-MODIFIED:20260303T020141Z
UID:13604-1780617600-1780790399@wetnwildhawaii.com
SUMMARY:Subtronics: Cyclops Island
DESCRIPTION:Get ready for an unforgettable night where high-energy electronic music meets thrilling water attractions. \nOn January 17\, Wet’n’Wild becomes the ultimate nighttime destination as gates open at 5:30 PM for Subtronics: Cyclops Island. \nSubtronics has emerged as a visionary force in electronic music\, continually reshaping the landscape through fearless innovation and evolution. Celebrated for his intricate sound design\, explosive energy\, and genre-defying performances\, his meteoric rise reflects a relentless drive to push creative boundaries and transform with every release. From sold-out arenas to landmark bookings at Coachella and the Las Vegas Sphere\, Subtronics has ascended from underground favorite to global headliner. \n \n Please review the concert guidelines before attending by clicking here.
URL:https://wetnwildhawaii.com/event/subtronics-cyclops-island/
LOCATION:Echoa Ridge\, 400 Farrington Highway\, Kapolei\, HI\, 96707\, United States
CATEGORIES:Concert
ATTACH;FMTTYPE=image/jpeg:https://wetnwildhawaii.com/wp-content/uploads/2026/01/SUB26_CyclopsIsland-1920x1080-1.jpg
END:VEVENT
BEGIN:VEVENT
DTSTART;TZID=Pacific/Honolulu:20260626T180000
DTEND;TZID=Pacific/Honolulu:20260626T223000
DTSTAMP:20260420T220346
CREATED:20260414T210100Z
LAST-MODIFIED:20260414T214205Z
UID:100485-1782496800-1782513000@wetnwildhawaii.com
SUMMARY:One Night. Iconic Hits. Kool & The Gang Live
DESCRIPTION:Kool & The Gang Live at Echoa Ridge – July 18 \nJoin the legendary Kool & The Gang as they bring their timeless blend of funk\, soul\, and R&B to Echoa Ridge\, located inside Wet’n’Wild. From Nairobi to Newark\, they’ve performed longer than any R&B group in history\, building a global legacy that continues to move generations. \nWith iconic hits like Celebration\, Cherish\, Jungle Boogie\, Summer Madness\, and Open Sesame\, Kool & The Gang have earned worldwide recognition\, including a star on the Hollywood Walk of Fame\, induction into the Songwriters Hall of Fame\, and the Rock & Roll Hall of Fame Class of 2024. Their music remains one of the most sampled catalogs in history\, featured everywhere from films to television. \nEvent Details: \n\nJune 26 | Gates open at 6:00 PM\nRides open: Hawaiian Waters wavepool\, Big Kahuna\, Tornado\, Waianae Coaster\, Volcanic Wedgeee\nAll ages\nRain or shine\nAll sales final. No refunds or exchanges\n\n \nKnow before you go. View Echoa Ridge festival guidelines here. \nSecure your tickets now and experience a night of timeless hits live at Echoa Ridge.
URL:https://wetnwildhawaii.com/event/one-night-iconic-hits-kool-the-gang-live/
LOCATION:Echoa Ridge\, 400 Farrington Highway\, Kapolei\, HI\, 96707\, United States
CATEGORIES:Concert
ATTACH;FMTTYPE=image/png:https://wetnwildhawaii.com/wp-content/uploads/2026/04/Kool-The-Gang.png
END:VEVENT
END:VCALENDAR