BEGIN:VCALENDAR
VERSION:2.0
PRODID:-//Wet&#039;n&#039;Wild Hawaii - ECPv6.15.17.1//NONSGML v1.0//EN
CALSCALE:GREGORIAN
METHOD:PUBLISH
X-WR-CALNAME:Wet&#039;n&#039;Wild Hawaii
X-ORIGINAL-URL:https://wetnwildhawaii.com
X-WR-CALDESC:Events for Wet&#039;n&#039;Wild Hawaii
REFRESH-INTERVAL;VALUE=DURATION:PT1H
X-Robots-Tag:noindex
X-PUBLISHED-TTL:PT1H
BEGIN:VTIMEZONE
TZID:Pacific/Honolulu
BEGIN:STANDARD
TZOFFSETFROM:-1000
TZOFFSETTO:-1000
TZNAME:HST
DTSTART:20240101T000000
END:STANDARD
END:VTIMEZONE
BEGIN:VEVENT
DTSTART;VALUE=DATE:20250824
DTEND;VALUE=DATE:20250825
DTSTAMP:20260421T004001
CREATED:20250716T232522Z
LAST-MODIFIED:20250716T232522Z
UID:12960-1755993600-1756079999@wetnwildhawaii.com
SUMMARY:Floatia Sunday
DESCRIPTION:Floatia Sunday at Wet’n’Wild – A Wavepool Party You Don’t Wanna Miss! \nThe vibes are floatin’ high at Floatia – Wet’n’Wild’s ultimate mid-summer music and foam fest! \nFrom 11:30 AM to 2:30 PM\, we’re turning the Hawaiian Waters Wavepool into the island’s coolest pool party. Our live Video Jockey will be spinning your favorite music videos from the past and present—think pop throwbacks\, summer anthems\, and today’s chart-topping hits\, all on the jumbo screen. \nAt 1:00 PM\, we will fire up the foam machine with fun at the Kids’ Foam Party! Watch your keiki dive into a mountain of cool\, clean foam while the music keeps the party going. \nGrab a floatie\, hit the waves\, and soak in the summer energy—it’s a full-on Sunday vibe for the whole family. \nIncluded with your Season Pass or park admission. No extra cost. Just extra fun. \nFloat. Dance. Play. Repeat. Only at Wet’n’Wild Hawaii – where Sundays are made for memories!
URL:https://wetnwildhawaii.com/event/floatia-sunday/2025-08-24/
ATTACH;FMTTYPE=image/jpeg:https://wetnwildhawaii.com/wp-content/uploads/2025/07/Flotia-Sunday.jpg
END:VEVENT
BEGIN:VEVENT
DTSTART;VALUE=DATE:20250810
DTEND;VALUE=DATE:20250811
DTSTAMP:20260421T004001
CREATED:20250716T232522Z
LAST-MODIFIED:20250716T233107Z
UID:12958-1754784000-1754870399@wetnwildhawaii.com
SUMMARY:Floatia Sunday
DESCRIPTION:Floatia Sunday at Wet’n’Wild – A Wavepool Party You Don’t Wanna Miss! \nThe vibes are floatin’ high at Floatia – Wet’n’Wild’s ultimate mid-summer music and foam fest! \nFrom 11:30 AM to 2:30 PM\, we’re turning the Hawaiian Waters Wavepool into the island’s coolest pool party. Our live Video Jockey will be spinning your favorite music videos from the past and present—think pop throwbacks\, summer anthems\, and today’s chart-topping hits\, all on the jumbo screen. \nAt 1:00 PM\, we will fire up the foam machine with fun at the Kids’ Foam Party! Watch your keiki dive into a mountain of cool\, clean foam while the music keeps the party going. \nGrab a floatie\, hit the waves\, and soak in the summer energy—it’s a full-on Sunday vibe for the whole family. \nIncluded with your Season Pass or park admission. No extra cost. Just extra fun. \nFloat. Dance. Play. Repeat. Only at Wet’n’Wild Hawaii – where Sundays are made for memories!
URL:https://wetnwildhawaii.com/event/floatia-sunday/2025-08-10/
ATTACH;FMTTYPE=image/jpeg:https://wetnwildhawaii.com/wp-content/uploads/2025/07/Flotia-Sunday.jpg
END:VEVENT
END:VCALENDAR